BEGIN:VCALENDAR
VERSION:2.0
PRODID:-//pretix//VR_Ticket//
BEGIN:VTIMEZONE
TZID:Europe/Berlin
BEGIN:STANDARD
DTSTART:20001029T040000
RRULE:FREQ=YEARLY;BYDAY=-1SU;BYMONTH=10
TZNAME:CET
TZOFFSETFROM:+0200
TZOFFSETTO:+0100
END:STANDARD
BEGIN:DAYLIGHT
DTSTART:20000326T030000
RRULE:FREQ=YEARLY;BYDAY=-1SU;BYMONTH=3
TZNAME:CEST
TZOFFSETFROM:+0100
TZOFFSETTO:+0200
END:DAYLIGHT
END:VTIMEZONE
BEGIN:VEVENT
UID:pretix-vrevent-wir04052002-0@login.vr-ticket.de
DTSTART;TZID=Europe/Berlin:20220504T190000
DTEND;TZID=Europe/Berlin:20220504T200000
DESCRIPTION:Tickets: https://login.vr-ticket.de/vrevent/wir04052002/\nEinla
 ss: 04.05.2022 18:30\nVeranstalter: VR TeilhaberBank Metropolregion Nürnb
 erg eG
DTSTAMP:20260420T205533Z
LOCATION:Atrium der VR Bank Nürnberg\, Am Tullnaupark 2\, 90402 Nürnberg
SUMMARY:Sanktionen - Preisschock - Lieferengpässe! Worauf müssen wir uns 
 einstellen?
END:VEVENT
END:VCALENDAR
