BEGIN:VCALENDAR
VERSION:2.0
PRODID:-//pretix//VR_Ticket//
BEGIN:VTIMEZONE
TZID:Europe/Berlin
BEGIN:STANDARD
DTSTART:20001029T040000
RRULE:FREQ=YEARLY;BYDAY=-1SU;BYMONTH=10
TZNAME:CET
TZOFFSETFROM:+0200
TZOFFSETTO:+0100
END:STANDARD
BEGIN:DAYLIGHT
DTSTART:20000326T030000
RRULE:FREQ=YEARLY;BYDAY=-1SU;BYMONTH=3
TZNAME:CEST
TZOFFSETFROM:+0100
TZOFFSETTO:+0200
END:DAYLIGHT
END:VTIMEZONE
BEGIN:VEVENT
UID:pretix-vrevent-weihnacht-0@login.vr-ticket.de
DTSTART;TZID=Europe/Berlin:20231208T180000
DTEND;TZID=Europe/Berlin:20231208T190000
DESCRIPTION:Tickets: https://login.vr-ticket.de/vrevent/weihnacht/\nEinlass
 : 08.12.2023 17:30\nVeranstalter: VR TeilhaberBank Metropolregion Nürnber
 g eG
DTSTAMP:20260420T154328Z
LOCATION:Mautkeller Nürnberg\, Hallplatz 2\, 90402 Nürnberg
SUMMARY:Weihnachtsfeier 2023
END:VEVENT
END:VCALENDAR
