BEGIN:VCALENDAR
VERSION:2.0
PRODID:-//pretix//VR_Ticket//
BEGIN:VTIMEZONE
TZID:Europe/Berlin
BEGIN:STANDARD
DTSTART:20001029T040000
RRULE:FREQ=YEARLY;BYDAY=-1SU;BYMONTH=10
TZNAME:CET
TZOFFSETFROM:+0200
TZOFFSETTO:+0100
END:STANDARD
BEGIN:DAYLIGHT
DTSTART:20000326T030000
RRULE:FREQ=YEARLY;BYDAY=-1SU;BYMONTH=3
TZNAME:CEST
TZOFFSETFROM:+0100
TZOFFSETTO:+0200
END:DAYLIGHT
END:VTIMEZONE
BEGIN:VEVENT
UID:pretix-vrevent-herbst-25-0@login.vr-ticket.de
DTSTART;TZID=Europe/Berlin:20251023T190000
DTEND;TZID=Europe/Berlin:20251023T200000
DESCRIPTION:Tickets: https://login.vr-ticket.de/vrevent/herbst-25/\nEinlass
 : 23.10.2025 18:30\nVeranstalter: VR TeilhaberBank Metropolregion Nürnber
 g eG
DTSTAMP:20260420T102037Z
LOCATION:Atrium der VR TeilhaberBank\, Am Tullnaupark 2\, 90402 Nürnberg
SUMMARY:Herbstgespräche 2025: Zukunft reloaded - Macher von morgen
END:VEVENT
END:VCALENDAR
