BEGIN:VCALENDAR
VERSION:2.0
PRODID:-//pretix//VR_Ticket//
BEGIN:VTIMEZONE
TZID:Europe/Berlin
BEGIN:STANDARD
DTSTART:20001029T040000
RRULE:FREQ=YEARLY;BYDAY=-1SU;BYMONTH=10
TZNAME:CET
TZOFFSETFROM:+0200
TZOFFSETTO:+0100
END:STANDARD
BEGIN:DAYLIGHT
DTSTART:20000326T030000
RRULE:FREQ=YEARLY;BYDAY=-1SU;BYMONTH=3
TZNAME:CEST
TZOFFSETFROM:+0100
TZOFFSETTO:+0200
END:DAYLIGHT
END:VTIMEZONE
BEGIN:VEVENT
UID:pretix-vrevent-herbst-22-0@login.vr-ticket.de
DTSTART;TZID=Europe/Berlin:20221027T190000
DTEND;TZID=Europe/Berlin:20221027T200000
DESCRIPTION:Tickets: https://login.vr-ticket.de/vrevent/herbst-22/\nEinlass
 : 27.10.2022 18:30\nVeranstalter: VR TeilhaberBank Metropolregion Nürnber
 g eG
DTSTAMP:20260420T205549Z
LOCATION:Atrium der VR Bank Metropolregion Nürnberg\, Am Tullnaupark 2\, 9
 0402 Nürnberg
SUMMARY:Energiekrise und Preisexplosion - Wie kann die Politik entlasten?
END:VEVENT
END:VCALENDAR
