BEGIN:VCALENDAR
VERSION:2.0
PRODID:-//pretix//VR_Ticket//
BEGIN:VTIMEZONE
TZID:Europe/Berlin
BEGIN:STANDARD
DTSTART:20001029T040000
RRULE:FREQ=YEARLY;BYDAY=-1SU;BYMONTH=10
TZNAME:CET
TZOFFSETFROM:+0200
TZOFFSETTO:+0100
END:STANDARD
BEGIN:DAYLIGHT
DTSTART:20000326T030000
RRULE:FREQ=YEARLY;BYDAY=-1SU;BYMONTH=3
TZNAME:CEST
TZOFFSETFROM:+0100
TZOFFSETTO:+0200
END:DAYLIGHT
END:VTIMEZONE
BEGIN:VEVENT
UID:pretix-vrevent-HCE-VRTHB-0@login.vr-ticket.de
DTSTART;TZID=Europe/Berlin:20260427T190000
DTEND;TZID=Europe/Berlin:20260427T200000
DESCRIPTION:Tickets: https://login.vr-ticket.de/vrevent/HCE-VRTHB/\nEinlass
 : 27.04.2026 18:30\nVeranstalter: VR TeilhaberBank Metropolregion Nürnber
 g eG
DTSTAMP:20260419T231447Z
LOCATION:VR TeilhaberBank\, Am Tullnaupark 2\, 90402 Nürnberg
SUMMARY:HCE Business Club meets VR TeilhaberBank
END:VEVENT
BEGIN:VEVENT
UID:pretix-vrevent-cyber-0@login.vr-ticket.de
DTSTART;TZID=Europe/Berlin:20260505T190000
DTEND;TZID=Europe/Berlin:20260505T200000
DESCRIPTION:Tickets: https://login.vr-ticket.de/vrevent/cyber/\nEinlass: 05
 .05.2026 18:30\nVeranstalter: VR TeilhaberBank Metropolregion Nürnberg eG
DTSTAMP:20260419T231447Z
LOCATION:Atrium der VR TeilhaberBank\, Am Tullnaupark 2\, 90402 Nürnberg
SUMMARY:Cyberrisiken im Mittelstand
END:VEVENT
BEGIN:VEVENT
UID:pretix-vrevent-ffd2026-0@login.vr-ticket.de
DTSTART;TZID=Europe/Berlin:20260924T090000
DTEND;TZID=Europe/Berlin:20260924T170000
DESCRIPTION:Tickets: https://login.vr-ticket.de/vrevent/ffd2026/\nEinlass: 
 24.09.2026 08:30\nVeranstalter: VR TeilhaberBank Metropolregion Nürnberg 
 eG
DTSTAMP:20260419T231447Z
LOCATION:ZOLLHOF - Tech Incubator\, Zollhof 7\, 90443 Nürnberg
SUMMARY:Future Finance Day 2026
END:VEVENT
BEGIN:VEVENT
UID:pretix-vrevent-benefizehh-2027-0@login.vr-ticket.de
DTSTART;TZID=Europe/Berlin:20270202T190000
DTEND;TZID=Europe/Berlin:20270202T200000
DESCRIPTION:Tickets: https://login.vr-ticket.de/vrevent/benefizehh-2027/\nE
 inlass: 02.02.2027 18:00\nVeranstalter: VR TeilhaberBank Metropolregion N
 ürnberg eG
DTSTAMP:20260419T231447Z
LOCATION:Heinrich-Lades-Halle\,\, Rathausplatz\, Erlangen
SUMMARY:VR Benefizkonzert mit den Nürnberger Symphonikern
END:VEVENT
END:VCALENDAR
