BEGIN:VCALENDAR
VERSION:2.0
PRODID:-//pretix//VR_Ticket//
BEGIN:VTIMEZONE
TZID:Europe/Berlin
BEGIN:STANDARD
DTSTART:20001029T040000
RRULE:FREQ=YEARLY;BYDAY=-1SU;BYMONTH=10
TZNAME:CET
TZOFFSETFROM:+0200
TZOFFSETTO:+0100
END:STANDARD
BEGIN:DAYLIGHT
DTSTART:20000326T030000
RRULE:FREQ=YEARLY;BYDAY=-1SU;BYMONTH=3
TZNAME:CEST
TZOFFSETFROM:+0100
TZOFFSETTO:+0200
END:DAYLIGHT
END:VTIMEZONE
BEGIN:VEVENT
UID:pretix-vrevent-benefizehh-2026-0@login.vr-ticket.de
DTSTART;TZID=Europe/Berlin:20260127T190000
DTEND;TZID=Europe/Berlin:20260127T200000
DESCRIPTION:Tickets: https://login.vr-ticket.de/vrevent/benefizehh-2026/\nE
 inlass: 27.01.2026 18:00\nVeranstalter: VR TeilhaberBank Metropolregion N
 ürnberg eG
DTSTAMP:20260420T102348Z
LOCATION:Heinrich-Lades-Halle\,\, Rathausplatz\, Erlangen
SUMMARY:VR Benefizkonzert mit den Nürnberger Symphonikern
END:VEVENT
END:VCALENDAR
