BEGIN:VCALENDAR
VERSION:2.0
PRODID:-//pretix//VR_Ticket//
BEGIN:VTIMEZONE
TZID:Europe/Berlin
BEGIN:STANDARD
DTSTART:20001029T040000
RRULE:FREQ=YEARLY;BYDAY=-1SU;BYMONTH=10
TZNAME:CET
TZOFFSETFROM:+0200
TZOFFSETTO:+0100
END:STANDARD
BEGIN:DAYLIGHT
DTSTART:20000326T030000
RRULE:FREQ=YEARLY;BYDAY=-1SU;BYMONTH=3
TZNAME:CEST
TZOFFSETFROM:+0100
TZOFFSETTO:+0200
END:DAYLIGHT
END:VTIMEZONE
BEGIN:VEVENT
UID:pretix-vrevent-TheatermB2001-0@login.vr-ticket.de
DTSTART;TZID=Europe/Berlin:20240120T190000
DTEND;TZID=Europe/Berlin:20240120T200000
DESCRIPTION:Tickets: https://login.vr-ticket.de/vrevent/TheatermB2001/\nEin
 lass: 20.01.2024 18:00\nVeranstalter: VR TeilhaberBank Metropolregion Nür
 nberg eG
DTSTAMP:20260420T152419Z
LOCATION:NeuStadtHalle\, Würzburger Str. 48\, 91413 Neustadt a.d. Aisch
SUMMARY:Theaterensemble der VR meine Bank
END:VEVENT
END:VCALENDAR
