BEGIN:VCALENDAR
VERSION:2.0
PRODID:-//pretix//VR_Ticket//
BEGIN:VTIMEZONE
TZID:Europe/Berlin
BEGIN:STANDARD
DTSTART:20001029T040000
RRULE:FREQ=YEARLY;BYDAY=-1SU;BYMONTH=10
TZNAME:CET
TZOFFSETFROM:+0200
TZOFFSETTO:+0100
END:STANDARD
BEGIN:DAYLIGHT
DTSTART:20000326T030000
RRULE:FREQ=YEARLY;BYDAY=-1SU;BYMONTH=3
TZNAME:CEST
TZOFFSETFROM:+0100
TZOFFSETTO:+0200
END:DAYLIGHT
END:VTIMEZONE
BEGIN:VEVENT
UID:pretix-vrevent-TheatermB-0@login.vr-ticket.de
DTSTART;TZID=Europe/Berlin:20240106T140000
DTEND;TZID=Europe/Berlin:20240106T150000
DESCRIPTION:Tickets: https://login.vr-ticket.de/vrevent/TheatermB/\nEinlass
 : 06.01.2024 13:00\nVeranstalter: VR TeilhaberBank Metropolregion Nürnber
 g eG
DTSTAMP:20260420T154026Z
LOCATION:Wolfgang-Graf-Halle\, Schloßstraße 2a\, 91443 Scheinfeld
SUMMARY:Theaterensemble der VR meine Bank
END:VEVENT
END:VCALENDAR
