BEGIN:VCALENDAR
VERSION:2.0
PRODID:-//pretix//VR_Ticket//
BEGIN:VTIMEZONE
TZID:Europe/Berlin
BEGIN:STANDARD
DTSTART:20001029T040000
RRULE:FREQ=YEARLY;BYDAY=-1SU;BYMONTH=10
TZNAME:CET
TZOFFSETFROM:+0200
TZOFFSETTO:+0100
END:STANDARD
BEGIN:DAYLIGHT
DTSTART:20000326T030000
RRULE:FREQ=YEARLY;BYDAY=-1SU;BYMONTH=3
TZNAME:CEST
TZOFFSETFROM:+0100
TZOFFSETTO:+0200
END:DAYLIGHT
END:VTIMEZONE
BEGIN:VEVENT
UID:pretix-vrevent-TheatermB-1201-0@login.vr-ticket.de
DTSTART;TZID=Europe/Berlin:20240112T190000
DTEND;TZID=Europe/Berlin:20240112T200000
DESCRIPTION:Tickets: https://login.vr-ticket.de/vrevent/TheatermB-1201/\nEi
 nlass: 12.01.2024 18:00\nVeranstalter: VR TeilhaberBank Metropolregion Nü
 rnberg eG
DTSTAMP:20260420T154440Z
LOCATION:Schulturnhalle Münchaurach\, Schulstr. 13\, 91086 Aurachtal
SUMMARY:Theaterensemble der VR meine Bank
END:VEVENT
END:VCALENDAR
