BEGIN:VCALENDAR
VERSION:2.0
PRODID:-//pretix//VR_Ticket//
BEGIN:VTIMEZONE
TZID:Europe/Berlin
BEGIN:STANDARD
DTSTART:20001029T040000
RRULE:FREQ=YEARLY;BYDAY=-1SU;BYMONTH=10
TZNAME:CET
TZOFFSETFROM:+0200
TZOFFSETTO:+0100
END:STANDARD
BEGIN:DAYLIGHT
DTSTART:20000326T030000
RRULE:FREQ=YEARLY;BYDAY=-1SU;BYMONTH=3
TZNAME:CEST
TZOFFSETFROM:+0100
TZOFFSETTO:+0200
END:DAYLIGHT
END:VTIMEZONE
BEGIN:VEVENT
UID:pretix-vrevent-TheaterVRTHB1701-0@login.vr-ticket.de
DTSTART;TZID=Europe/Berlin:20260117T190000
DTEND;TZID=Europe/Berlin:20260117T200000
DESCRIPTION:Tickets: https://login.vr-ticket.de/vrevent/TheaterVRTHB1701/\n
 Einlass: 17.01.2026 18:00\nVeranstalter: VR TeilhaberBank Metropolregion N
 ürnberg eG
DTSTAMP:20260420T100822Z
LOCATION:NeuStadtHalle\, Würzburger Str. 48\, 91413 Neustadt a.d.Aisch
SUMMARY:Theaterensemble der VR TeilhaberBank
END:VEVENT
END:VCALENDAR
