BEGIN:VCALENDAR
VERSION:2.0
PRODID:-//pretix//VR_Ticket//
BEGIN:VTIMEZONE
TZID:Europe/Berlin
BEGIN:STANDARD
DTSTART:20001029T040000
RRULE:FREQ=YEARLY;BYDAY=-1SU;BYMONTH=10
TZNAME:CET
TZOFFSETFROM:+0200
TZOFFSETTO:+0100
END:STANDARD
BEGIN:DAYLIGHT
DTSTART:20000326T030000
RRULE:FREQ=YEARLY;BYDAY=-1SU;BYMONTH=3
TZNAME:CEST
TZOFFSETFROM:+0100
TZOFFSETTO:+0200
END:DAYLIGHT
END:VTIMEZONE
BEGIN:VEVENT
UID:pretix-vrevent-TheaterVRTHB0102-0@login.vr-ticket.de
DTSTART;TZID=Europe/Berlin:20260201T140000
DTEND;TZID=Europe/Berlin:20260201T150000
DESCRIPTION:Tickets: https://login.vr-ticket.de/vrevent/TheaterVRTHB0102/\n
 Einlass: 01.02.2026 13:00\nVeranstalter: VR TeilhaberBank Metropolregion N
 ürnberg eG
DTSTAMP:20260420T100727Z
LOCATION:Steinachgrundhalle\, Im Steinachgrund 11\, 91481 Münchsteinach
SUMMARY:Theaterensemble der VR TeilhaberBank
END:VEVENT
END:VCALENDAR
