BEGIN:VCALENDAR
VERSION:2.0
PRODID:-//pretix//VR_Ticket//
BEGIN:VTIMEZONE
TZID:Europe/Berlin
BEGIN:STANDARD
DTSTART:20001029T040000
RRULE:FREQ=YEARLY;BYDAY=-1SU;BYMONTH=10
TZNAME:CET
TZOFFSETFROM:+0200
TZOFFSETTO:+0100
END:STANDARD
BEGIN:DAYLIGHT
DTSTART:20000326T030000
RRULE:FREQ=YEARLY;BYDAY=-1SU;BYMONTH=3
TZNAME:CEST
TZOFFSETFROM:+0100
TZOFFSETTO:+0200
END:DAYLIGHT
END:VTIMEZONE
BEGIN:VEVENT
UID:pretix-vrevent-TeilhaberSchwaig-0@login.vr-ticket.de
DTSTART;TZID=Europe/Berlin:20230615T183000
DTEND;TZID=Europe/Berlin:20230615T193000
DESCRIPTION:Tickets: https://login.vr-ticket.de/vrevent/TeilhaberSchwaig/\n
 Einlass: 15.06.2023 18:00\nVeranstalter: VR TeilhaberBank Metropolregion N
 ürnberg eG
DTSTAMP:20260420T205916Z
LOCATION:VR Bank Nürnberg Filiale Schwaig\, Behringersdorfer Str. 1\,\, 90
 571 Schwaig bei Nürnberg.
SUMMARY:Begrüßungsveranstaltung für Teilhaber Schwaig
END:VEVENT
END:VCALENDAR
