BEGIN:VCALENDAR
VERSION:2.0
PRODID:-//pretix//VR_Ticket//
BEGIN:VTIMEZONE
TZID:Europe/Berlin
BEGIN:STANDARD
DTSTART:20001029T040000
RRULE:FREQ=YEARLY;BYDAY=-1SU;BYMONTH=10
TZNAME:CET
TZOFFSETFROM:+0200
TZOFFSETTO:+0100
END:STANDARD
BEGIN:DAYLIGHT
DTSTART:20000326T030000
RRULE:FREQ=YEARLY;BYDAY=-1SU;BYMONTH=3
TZNAME:CEST
TZOFFSETFROM:+0100
TZOFFSETTO:+0200
END:DAYLIGHT
END:VTIMEZONE
BEGIN:VEVENT
UID:pretix-vrevent-Stein-0@login.vr-ticket.de
DTSTART;TZID=Europe/Berlin:20231018T183000
DTEND;TZID=Europe/Berlin:20231018T193000
DESCRIPTION:Tickets: https://login.vr-ticket.de/vrevent/Stein/\nEinlass: 18
 .10.2023 18:00\nVeranstalter: VR TeilhaberBank Metropolregion Nürnberg eG
DTSTAMP:20260420T205534Z
LOCATION:Gemeindehaus\, St. Jakobuskirche - Evangelisch-Lutherische Kirchen
 gemeinde Stein\, Pfarrweg 18\, 90547 Stein
SUMMARY:So spart man heute - Die Kunst des Investierens
END:VEVENT
END:VCALENDAR
