BEGIN:VCALENDAR
VERSION:2.0
PRODID:-//pretix//VR_Ticket//
BEGIN:VTIMEZONE
TZID:Europe/Berlin
BEGIN:STANDARD
DTSTART:20001029T040000
RRULE:FREQ=YEARLY;BYDAY=-1SU;BYMONTH=10
TZNAME:CET
TZOFFSETFROM:+0200
TZOFFSETTO:+0100
END:STANDARD
BEGIN:DAYLIGHT
DTSTART:20000326T030000
RRULE:FREQ=YEARLY;BYDAY=-1SU;BYMONTH=3
TZNAME:CEST
TZOFFSETFROM:+0100
TZOFFSETTO:+0200
END:DAYLIGHT
END:VTIMEZONE
BEGIN:VEVENT
UID:pretix-vrevent-Schweiz-EHH-0@login.vr-ticket.de
DTSTART;TZID=Europe/Berlin:20221012T180000
DTEND;TZID=Europe/Berlin:20221012T190000
DESCRIPTION:Tickets: https://login.vr-ticket.de/vrevent/Schweiz-EHH/\nEinla
 ss: 12.10.2022 17:30\nVeranstalter: VR TeilhaberBank Metropolregion Nürnb
 erg eG
DTSTAMP:20260420T205705Z
LOCATION:VR Bank Erlangen-Höchstadt-Herzogenaurach - Firmenkompetenz-Zentr
 um Erlangen\, Nürnberger Str. 64/66\,\, 91052 Erlangen
SUMMARY:Geldanlage in der Schweiz
END:VEVENT
END:VCALENDAR
