BEGIN:VCALENDAR
VERSION:2.0
PRODID:-//pretix//VR_Ticket//
BEGIN:VTIMEZONE
TZID:Europe/Berlin
BEGIN:STANDARD
DTSTART:20001029T040000
RRULE:FREQ=YEARLY;BYDAY=-1SU;BYMONTH=10
TZNAME:CET
TZOFFSETFROM:+0200
TZOFFSETTO:+0100
END:STANDARD
BEGIN:DAYLIGHT
DTSTART:20000326T030000
RRULE:FREQ=YEARLY;BYDAY=-1SU;BYMONTH=3
TZNAME:CEST
TZOFFSETFROM:+0100
TZOFFSETTO:+0200
END:DAYLIGHT
END:VTIMEZONE
BEGIN:VEVENT
UID:pretix-vrevent-Nuernberg-0@login.vr-ticket.de
DTSTART;TZID=Europe/Berlin:20240411T183000
DTEND;TZID=Europe/Berlin:20240411T193000
DESCRIPTION:Tickets: https://login.vr-ticket.de/vrevent/Nuernberg/\nEinlass
 : 11.04.2024 18:00\nVeranstalter: VR TeilhaberBank Metropolregion Nürnber
 g eG
DTSTAMP:20260420T154026Z
LOCATION:VR Bank Nürnberg Hauptstelle Am Tullnaupark\, Tullnaupark 2\, 904
 02 Nürnberg\, Deutschland
SUMMARY:Begrüßungsveranstaltung für Teilhaber Nürnberg
END:VEVENT
END:VCALENDAR
