BEGIN:VCALENDAR
VERSION:2.0
PRODID:-//pretix//VR_Ticket//
BEGIN:VTIMEZONE
TZID:Europe/Berlin
BEGIN:STANDARD
DTSTART:20001029T040000
RRULE:FREQ=YEARLY;BYDAY=-1SU;BYMONTH=10
TZNAME:CET
TZOFFSETFROM:+0200
TZOFFSETTO:+0100
END:STANDARD
BEGIN:DAYLIGHT
DTSTART:20000326T030000
RRULE:FREQ=YEARLY;BYDAY=-1SU;BYMONTH=3
TZNAME:CEST
TZOFFSETFROM:+0100
TZOFFSETTO:+0200
END:DAYLIGHT
END:VTIMEZONE
BEGIN:VEVENT
UID:pretix-vrevent-Geldanlage2203-0@login.vr-ticket.de
DTSTART;TZID=Europe/Berlin:20230322T190000
DTEND;TZID=Europe/Berlin:20230322T200000
DESCRIPTION:Tickets: https://login.vr-ticket.de/vrevent/Geldanlage2203/\nEi
 nlass: 22.03.2023 18:30\nVeranstalter: VR TeilhaberBank Metropolregion Nü
 rnberg eG
DTSTAMP:20260420T205548Z
LOCATION:VR-Bank ERH-Herzogenaurach Kompetenzzentrum\, Hintere Gasse 22\,\,
  91074 Herzogenaurach
SUMMARY:Geldanlage in unruhigen Zeiten
END:VEVENT
END:VCALENDAR
