BEGIN:VCALENDAR
VERSION:2.0
PRODID:-//pretix//VR_Ticket//
BEGIN:VTIMEZONE
TZID:Europe/Berlin
BEGIN:STANDARD
DTSTART:20001029T040000
RRULE:FREQ=YEARLY;BYDAY=-1SU;BYMONTH=10
TZNAME:CET
TZOFFSETFROM:+0200
TZOFFSETTO:+0100
END:STANDARD
BEGIN:DAYLIGHT
DTSTART:20000326T030000
RRULE:FREQ=YEARLY;BYDAY=-1SU;BYMONTH=3
TZNAME:CEST
TZOFFSETFROM:+0100
TZOFFSETTO:+0200
END:DAYLIGHT
END:VTIMEZONE
BEGIN:VEVENT
UID:pretix-vrevent-Eltersdorf-0@login.vr-ticket.de
DTSTART;TZID=Europe/Berlin:20231123T183000
DTEND;TZID=Europe/Berlin:20231123T193000
DESCRIPTION:Tickets: https://login.vr-ticket.de/vrevent/Eltersdorf/\nEinlas
 s: 23.11.2023 18:00\nVeranstalter: VR TeilhaberBank Metropolregion Nürnbe
 rg eG
DTSTAMP:20260420T154328Z
LOCATION:Sportgaststätte Bei Lambi\,\, Sportanlage SC Eltersdorf\,\, Lange
 naustraße 17\,\, 91058 Erlangen
SUMMARY:Vom Sparer zum Investor: Geldanlage in Zeiten der Veränderung
END:VEVENT
END:VCALENDAR
