BEGIN:VCALENDAR
VERSION:2.0
PRODID:-//pretix//VR_Ticket//
BEGIN:VTIMEZONE
TZID:Europe/Berlin
BEGIN:STANDARD
DTSTART:20001029T040000
RRULE:FREQ=YEARLY;BYDAY=-1SU;BYMONTH=10
TZNAME:CET
TZOFFSETFROM:+0200
TZOFFSETTO:+0100
END:STANDARD
BEGIN:DAYLIGHT
DTSTART:20000326T030000
RRULE:FREQ=YEARLY;BYDAY=-1SU;BYMONTH=3
TZNAME:CEST
TZOFFSETFROM:+0100
TZOFFSETTO:+0200
END:DAYLIGHT
END:VTIMEZONE
BEGIN:VEVENT
UID:pretix-vrevent-CapitalComedy-0@login.vr-ticket.de
DTSTART;TZID=Europe/Berlin:20241008T183000
DTEND;TZID=Europe/Berlin:20241008T193000
DESCRIPTION:Tickets: https://login.vr-ticket.de/vrevent/CapitalComedy/\nEin
 lass: 08.10.2024 18:00\nVeranstalter: VR TeilhaberBank Metropolregion Nür
 nberg eG
DTSTAMP:20260420T100728Z
LOCATION:Theaterbühne Fifty Fifty\, Südliche Stadtmauerstraße 1\, 91054 
 Erlangen\, Deutschland
SUMMARY:Capital-Comedy-Canapés
END:VEVENT
END:VCALENDAR
