BEGIN:VCALENDAR
VERSION:2.0
PRODID:-//pretix//VR_Ticket//
BEGIN:VTIMEZONE
TZID:Europe/Berlin
BEGIN:STANDARD
DTSTART:20001029T040000
RRULE:FREQ=YEARLY;BYDAY=-1SU;BYMONTH=10
TZNAME:CET
TZOFFSETFROM:+0200
TZOFFSETTO:+0100
END:STANDARD
BEGIN:DAYLIGHT
DTSTART:20000326T030000
RRULE:FREQ=YEARLY;BYDAY=-1SU;BYMONTH=3
TZNAME:CEST
TZOFFSETFROM:+0100
TZOFFSETTO:+0200
END:DAYLIGHT
END:VTIMEZONE
BEGIN:VEVENT
UID:pretix-vrevent-Blockchain-0@login.vr-ticket.de
DTSTART;TZID=Europe/Berlin:20240416T190000
DTEND;TZID=Europe/Berlin:20240416T200000
DESCRIPTION:Tickets: https://login.vr-ticket.de/vrevent/Blockchain/\nEinlas
 s: 16.04.2024 18:30\nVeranstalter: VR TeilhaberBank Metropolregion Nürnbe
 rg eG
DTSTAMP:20260420T153948Z
LOCATION:Ludwig Erhard Zentrum\, Ludwig-Erhard-Straße 6\,\, 90762 Fürth\,
  Deutschland
SUMMARY:Bitcoin\, Blockchain & Co. – Die Zukunft Ihrer Geldanlage?
END:VEVENT
END:VCALENDAR
