BEGIN:VCALENDAR
VERSION:2.0
PRODID:-//pretix//VR_Ticket//
BEGIN:VTIMEZONE
TZID:Europe/Berlin
BEGIN:STANDARD
DTSTART:20001029T040000
RRULE:FREQ=YEARLY;BYDAY=-1SU;BYMONTH=10
TZNAME:CET
TZOFFSETFROM:+0200
TZOFFSETTO:+0100
END:STANDARD
BEGIN:DAYLIGHT
DTSTART:20000326T030000
RRULE:FREQ=YEARLY;BYDAY=-1SU;BYMONTH=3
TZNAME:CEST
TZOFFSETFROM:+0100
TZOFFSETTO:+0200
END:DAYLIGHT
END:VTIMEZONE
BEGIN:VEVENT
UID:pretix-vr-dah-erstehilfe2709-0@login.vr-ticket.de
DTSTART;TZID=Europe/Berlin:20230927T183000
DTEND;TZID=Europe/Berlin:20230927T210000
DESCRIPTION:Tickets: https://login.vr-ticket.de/vr-dah/erstehilfe2709/\nEin
 lass: 27.09.2023 18:00\nVeranstalter: Volksbank Raiffeisenbank Dachau eG
DTSTAMP:20260424T105020Z
LOCATION:Geschäftsstelle Markt Indersdorf\, Marienplatz 17\, 85229 Markt I
 ndersdorf
SUMMARY:Erste-Hilfe-Kurs am Kind
END:VEVENT
END:VCALENDAR
