BEGIN:VCALENDAR
VERSION:2.0
PRODID:-//pretix//VR_Ticket//
BEGIN:VTIMEZONE
TZID:Europe/Berlin
BEGIN:STANDARD
DTSTART:20001029T040000
RRULE:FREQ=YEARLY;BYDAY=-1SU;BYMONTH=10
TZNAME:CET
TZOFFSETFROM:+0200
TZOFFSETTO:+0100
END:STANDARD
BEGIN:DAYLIGHT
DTSTART:20000326T030000
RRULE:FREQ=YEARLY;BYDAY=-1SU;BYMONTH=3
TZNAME:CEST
TZOFFSETFROM:+0100
TZOFFSETTO:+0200
END:DAYLIGHT
END:VTIMEZONE
BEGIN:VEVENT
UID:pretix-voba-rek-erste-hilfe-2-36036@login.vr-ticket.de
DTSTART;TZID=Europe/Berlin:20261121T100000
DTEND;TZID=Europe/Berlin:20261121T150000
DESCRIPTION:Tickets: https://login.vr-ticket.de/voba-rek/erste-hilfe-2/3603
 6/\nEinlass: 21.11.2026 00:10\nVeranstalter: Volksbank Rhein-Erft-Köln eG
DTSTAMP:20260422T062447Z
LOCATION:Kölner Str. 88\, 53919 Weilerswist
SUMMARY:Mitgliedschaft erleben - Erste Hilfe Kurs am Kind in Weilerswist
END:VEVENT
END:VCALENDAR
