BEGIN:VCALENDAR
VERSION:2.0
PRODID:-//pretix//VR_Ticket//
BEGIN:VTIMEZONE
TZID:Europe/Berlin
BEGIN:STANDARD
DTSTART:20001029T040000
RRULE:FREQ=YEARLY;BYDAY=-1SU;BYMONTH=10
TZNAME:CET
TZOFFSETFROM:+0200
TZOFFSETTO:+0100
END:STANDARD
BEGIN:DAYLIGHT
DTSTART:20000326T030000
RRULE:FREQ=YEARLY;BYDAY=-1SU;BYMONTH=3
TZNAME:CEST
TZOFFSETFROM:+0100
TZOFFSETTO:+0200
END:DAYLIGHT
END:VTIMEZONE
BEGIN:VEVENT
UID:pretix-voba-rek-erste-hilfe-2-36035@login.vr-ticket.de
DTSTART;TZID=Europe/Berlin:20261017T100000
DTEND;TZID=Europe/Berlin:20261017T150000
DESCRIPTION:Tickets: https://login.vr-ticket.de/voba-rek/erste-hilfe-2/3603
 5/\nEinlass: 17.10.2026 00:10\nVeranstalter: Volksbank Rhein-Erft-Köln eG
DTSTAMP:20260421T091547Z
LOCATION:Gustav-Heinemann-Straße 7\, 50374 Erftstadt
SUMMARY:Mitgliedschaft erleben - Erste Hilfe Kurs am Kind in Liblar
END:VEVENT
END:VCALENDAR
