BEGIN:VCALENDAR
VERSION:2.0
PRODID:-//pretix//VR_Ticket//
BEGIN:VTIMEZONE
TZID:Europe/Berlin
BEGIN:STANDARD
DTSTART:20001029T040000
RRULE:FREQ=YEARLY;BYDAY=-1SU;BYMONTH=10
TZNAME:CET
TZOFFSETFROM:+0200
TZOFFSETTO:+0100
END:STANDARD
BEGIN:DAYLIGHT
DTSTART:20000326T030000
RRULE:FREQ=YEARLY;BYDAY=-1SU;BYMONTH=3
TZNAME:CEST
TZOFFSETFROM:+0100
TZOFFSETTO:+0200
END:DAYLIGHT
END:VTIMEZONE
BEGIN:VEVENT
UID:pretix-voba-rek-erste-hilfe-2-36034@login.vr-ticket.de
DTSTART;TZID=Europe/Berlin:20260718T100000
DTEND;TZID=Europe/Berlin:20260718T150000
DESCRIPTION:Tickets: https://login.vr-ticket.de/voba-rek/erste-hilfe-2/3603
 4/\nEinlass: 18.07.2026 00:10\nVeranstalter: Volksbank Rhein-Erft-Köln eG
DTSTAMP:20260421T131112Z
LOCATION:Hermann-Löns-Straße 1\, 50170 Kerpen
SUMMARY:Mitgliedschaft erleben - Erste Hilfe Kurs am Hund in Sindorf
END:VEVENT
END:VCALENDAR
