BEGIN:VCALENDAR
VERSION:2.0
PRODID:-//pretix//VR_Ticket//
BEGIN:VEVENT
UID:pretix-vbrw-weihnachtsfeier-0@login.vr-ticket.de
DTSTART;VALUE=DATE:20221125
DTEND;VALUE=DATE:20221126
DESCRIPTION:Tickets: https://login.vr-ticket.de/vbrw/weihnachtsfeier/\nVera
 nstalter: Volksbank Rottweil eG
DTSTAMP:20260422T110309Z
LOCATION:Hochwaldstube\, Hochwald 24\, 78628 Rottweil
SUMMARY:Weihnachtsfeier
END:VEVENT
END:VCALENDAR
