BEGIN:VCALENDAR
VERSION:2.0
PRODID:-//pretix//VR_Ticket//
BEGIN:VTIMEZONE
TZID:Europe/Berlin
BEGIN:STANDARD
DTSTART:20001029T040000
RRULE:FREQ=YEARLY;BYDAY=-1SU;BYMONTH=10
TZNAME:CET
TZOFFSETFROM:+0200
TZOFFSETTO:+0100
END:STANDARD
BEGIN:DAYLIGHT
DTSTART:20000326T030000
RRULE:FREQ=YEARLY;BYDAY=-1SU;BYMONTH=3
TZNAME:CEST
TZOFFSETFROM:+0100
TZOFFSETTO:+0200
END:DAYLIGHT
END:VTIMEZONE
BEGIN:VEVENT
UID:pretix-vbrw-verabschiedung-0@login.vr-ticket.de
DTSTART;TZID=Europe/Berlin:20231208T183000
DTEND;TZID=Europe/Berlin:20231208T235900
DESCRIPTION:Tickets: https://login.vr-ticket.de/vbrw/verabschiedung/\nVeran
 stalter: Volksbank Rottweil eG
DTSTAMP:20260422T071629Z
LOCATION:Kapuziner Rottweil\, Neutorstraße 4-6\, 78628 Rottweil
SUMMARY:Verabschiedung
END:VEVENT
END:VCALENDAR
