BEGIN:VCALENDAR
VERSION:2.0
PRODID:-//pretix//VR_Ticket//
BEGIN:VTIMEZONE
TZID:Europe/Berlin
BEGIN:STANDARD
DTSTART:20001029T040000
RRULE:FREQ=YEARLY;BYDAY=-1SU;BYMONTH=10
TZNAME:CET
TZOFFSETFROM:+0200
TZOFFSETTO:+0100
END:STANDARD
BEGIN:DAYLIGHT
DTSTART:20000326T030000
RRULE:FREQ=YEARLY;BYDAY=-1SU;BYMONTH=3
TZNAME:CEST
TZOFFSETFROM:+0100
TZOFFSETTO:+0200
END:DAYLIGHT
END:VTIMEZONE
BEGIN:VEVENT
UID:pretix-vbrw-mv-zimmern-2024-0@login.vr-ticket.de
DTSTART;TZID=Europe/Berlin:20240229T183000
DTEND;TZID=Europe/Berlin:20240229T193000
DESCRIPTION:Tickets: https://login.vr-ticket.de/vbrw/mv-zimmern-2024/\nVera
 nstalter: Volksbank Rottweil eG
DTSTAMP:20260422T071832Z
LOCATION:Ökumenisches Gemeindezentrum "Arche"\, Am Dorfplatz 5\, 78658 Zim
 mern ob Rottweil
SUMMARY:Mitgliederversammlung Zimmern
END:VEVENT
END:VCALENDAR
