BEGIN:VCALENDAR
VERSION:2.0
PRODID:-//pretix//VR_Ticket//
BEGIN:VTIMEZONE
TZID:Europe/Berlin
BEGIN:STANDARD
DTSTART:20001029T040000
RRULE:FREQ=YEARLY;BYDAY=-1SU;BYMONTH=10
TZNAME:CET
TZOFFSETFROM:+0200
TZOFFSETTO:+0100
END:STANDARD
BEGIN:DAYLIGHT
DTSTART:20000326T030000
RRULE:FREQ=YEARLY;BYDAY=-1SU;BYMONTH=3
TZNAME:CEST
TZOFFSETFROM:+0100
TZOFFSETTO:+0200
END:DAYLIGHT
END:VTIMEZONE
BEGIN:VEVENT
UID:pretix-vbrw-mv-villingendorf-2023-0@login.vr-ticket.de
DTSTART;TZID=Europe/Berlin:20230323T183000
DTEND;TZID=Europe/Berlin:20230323T193000
DESCRIPTION:Tickets: https://login.vr-ticket.de/vbrw/mv-villingendorf-2023/
 \nEinlass: 23.03.2023 18:00\nVeranstalter: Volksbank Rottweil eG
DTSTAMP:20260425T141615Z
LOCATION:Turn- und Festhalle Villingendorf\, Hauptstraße 13\, 78667 Villin
 gendorf
SUMMARY:Mitgliederversammlung Villingendorf
END:VEVENT
END:VCALENDAR
