BEGIN:VCALENDAR
VERSION:2.0
PRODID:-//pretix//VR_Ticket//
BEGIN:VTIMEZONE
TZID:Europe/Berlin
BEGIN:STANDARD
DTSTART:20001029T040000
RRULE:FREQ=YEARLY;BYDAY=-1SU;BYMONTH=10
TZNAME:CET
TZOFFSETFROM:+0200
TZOFFSETTO:+0100
END:STANDARD
BEGIN:DAYLIGHT
DTSTART:20000326T030000
RRULE:FREQ=YEARLY;BYDAY=-1SU;BYMONTH=3
TZNAME:CEST
TZOFFSETFROM:+0100
TZOFFSETTO:+0200
END:DAYLIGHT
END:VTIMEZONE
BEGIN:VEVENT
UID:pretix-vbrw-mv-sulz-2024-0@login.vr-ticket.de
DTSTART;TZID=Europe/Berlin:20240321T183000
DTEND;TZID=Europe/Berlin:20240321T193000
DESCRIPTION:Tickets: https://login.vr-ticket.de/vbrw/mv-sulz-2024/\nVeranst
 alter: Volksbank Rottweil eG
DTSTAMP:20260422T015828Z
LOCATION:Evang. Gemeindehaus\, Kanalstraße 12\, 72172 Sulz
SUMMARY:Mitgliederversammlung Sulz
END:VEVENT
END:VCALENDAR
