BEGIN:VCALENDAR
VERSION:2.0
PRODID:-//pretix//VR_Ticket//
BEGIN:VTIMEZONE
TZID:Europe/Berlin
BEGIN:STANDARD
DTSTART:20001029T040000
RRULE:FREQ=YEARLY;BYDAY=-1SU;BYMONTH=10
TZNAME:CET
TZOFFSETFROM:+0200
TZOFFSETTO:+0100
END:STANDARD
BEGIN:DAYLIGHT
DTSTART:20000326T030000
RRULE:FREQ=YEARLY;BYDAY=-1SU;BYMONTH=3
TZNAME:CEST
TZOFFSETFROM:+0100
TZOFFSETTO:+0200
END:DAYLIGHT
END:VTIMEZONE
BEGIN:VEVENT
UID:pretix-vbrw-mv-bochingen-2026-0@login.vr-ticket.de
DTSTART;TZID=Europe/Berlin:20260316T173000
DTEND;TZID=Europe/Berlin:20260316T183000
DESCRIPTION:Tickets: https://login.vr-ticket.de/vbrw/mv-bochingen-2026/\nVe
 ranstalter: Volksbank Rottweil eG
DTSTAMP:20260422T020027Z
LOCATION:Sportheim SpVgg Bochingen e.V.\, Am Brühlbach 4\, 78727 Oberndorf
 -Bochingen
SUMMARY:Mitgliederversammlung Bochingen
END:VEVENT
END:VCALENDAR
