BEGIN:VCALENDAR
VERSION:2.0
PRODID:-//pretix//VR_Ticket//
BEGIN:VEVENT
UID:pretix-vbrw-merrychristmas-0@login.vr-ticket.de
DTSTART;VALUE=DATE:20241129
DTEND;VALUE=DATE:20241130
DESCRIPTION:Tickets: https://login.vr-ticket.de/vbrw/merrychristmas/\nVeran
 stalter: Volksbank Rottweil eG
DTSTAMP:20260422T015831Z
LOCATION:Hofgut Neckarburg\, Neckarburg 1\, 78628 Rottweil
SUMMARY:Weihnachtsfeier
END:VEVENT
END:VCALENDAR
