BEGIN:VCALENDAR
VERSION:2.0
PRODID:-//pretix//VR_Ticket//
BEGIN:VTIMEZONE
TZID:Europe/Berlin
BEGIN:STANDARD
DTSTART:20001029T040000
RRULE:FREQ=YEARLY;BYDAY=-1SU;BYMONTH=10
TZNAME:CET
TZOFFSETFROM:+0200
TZOFFSETTO:+0100
END:STANDARD
BEGIN:DAYLIGHT
DTSTART:20000326T030000
RRULE:FREQ=YEARLY;BYDAY=-1SU;BYMONTH=3
TZNAME:CEST
TZOFFSETFROM:+0100
TZOFFSETTO:+0200
END:DAYLIGHT
END:VTIMEZONE
BEGIN:VEVENT
UID:pretix-vbrw-m365anwender-18572@login.vr-ticket.de
DTSTART;TZID=Europe/Berlin:20241010T083000
DTEND;TZID=Europe/Berlin:20241010T123000
DESCRIPTION:Tickets: https://login.vr-ticket.de/vbrw/m365anwender/18572/\nV
 eranstalter: Volksbank Rottweil eG
DTSTAMP:20260424T105020Z
LOCATION:Volksbank Rottweil eG\, Sitzungszimmer\, Hochbrücktorstraße 27\,
  78628 Rottweil
SUMMARY:Microsoft Anwenderschulung
END:VEVENT
END:VCALENDAR
