BEGIN:VCALENDAR
VERSION:2.0
PRODID:-//pretix//VR_Ticket//
BEGIN:VEVENT
UID:pretix-vbrw-europa-park-0@login.vr-ticket.de
DTSTART;VALUE=DATE:20220924
DTEND;VALUE=DATE:20220925
DESCRIPTION:Tickets: https://login.vr-ticket.de/vbrw/europa-park/\nVeransta
 lter: Volksbank Rottweil eG
DTSTAMP:20260422T071833Z
LOCATION:Europa-Park\, Europa-Park-Straße 2\, 77977 Rust
SUMMARY:VR-MeinKonto-Ausflug
END:VEVENT
END:VCALENDAR
