BEGIN:VCALENDAR
VERSION:2.0
PRODID:-//pretix//VR_Ticket//
BEGIN:VEVENT
UID:pretix-vbrw-europa-park-2-0@login.vr-ticket.de
DTSTART;VALUE=DATE:20230916
DTEND;VALUE=DATE:20230917
DESCRIPTION:Tickets: https://login.vr-ticket.de/vbrw/europa-park-2/\nVerans
 talter: Volksbank Rottweil eG
DTSTAMP:20260422T110404Z
LOCATION:Europa-Park\, Europa-Park-Straße 2\, 77977 Rust
SUMMARY:VR-MeinKonto-Ausflug
END:VEVENT
END:VCALENDAR
