BEGIN:VCALENDAR
VERSION:2.0
PRODID:-//pretix//VR_Ticket//
BEGIN:VTIMEZONE
TZID:Europe/Berlin
BEGIN:STANDARD
DTSTART:20001029T040000
RRULE:FREQ=YEARLY;BYDAY=-1SU;BYMONTH=10
TZNAME:CET
TZOFFSETFROM:+0200
TZOFFSETTO:+0100
END:STANDARD
BEGIN:DAYLIGHT
DTSTART:20000326T030000
RRULE:FREQ=YEARLY;BYDAY=-1SU;BYMONTH=3
TZNAME:CEST
TZOFFSETFROM:+0100
TZOFFSETTO:+0200
END:DAYLIGHT
END:VTIMEZONE
BEGIN:VEVENT
UID:pretix-vbrw-beirat02-25-0@login.vr-ticket.de
DTSTART;TZID=Europe/Berlin:20251127T183000
DTEND;TZID=Europe/Berlin:20251127T193000
DESCRIPTION:Tickets: https://login.vr-ticket.de/vbrw/beirat02-25/\nVeransta
 lter: Volksbank Rottweil eG
DTSTAMP:20260422T015828Z
LOCATION:Volksbank Rottweil eG\, Hochbrücktorstraße 27\, 78628 Rottweil
SUMMARY:Gesamtbeiratssitzung 27.11.2025
END:VEVENT
END:VCALENDAR
