BEGIN:VCALENDAR
VERSION:2.0
PRODID:-//pretix//VR_Ticket//
BEGIN:VTIMEZONE
TZID:Europe/Berlin
BEGIN:STANDARD
DTSTART:20001029T040000
RRULE:FREQ=YEARLY;BYDAY=-1SU;BYMONTH=10
TZNAME:CET
TZOFFSETFROM:+0200
TZOFFSETTO:+0100
END:STANDARD
BEGIN:DAYLIGHT
DTSTART:20000326T030000
RRULE:FREQ=YEARLY;BYDAY=-1SU;BYMONTH=3
TZNAME:CEST
TZOFFSETFROM:+0100
TZOFFSETTO:+0200
END:DAYLIGHT
END:VTIMEZONE
BEGIN:VEVENT
UID:pretix-vbrw-MA-Versammlung-3-0@login.vr-ticket.de
DTSTART;TZID=Europe/Berlin:20250129T140000
DTEND;TZID=Europe/Berlin:20250129T150000
DESCRIPTION:Tickets: https://login.vr-ticket.de/vbrw/MA-Versammlung-3/\nVer
 anstalter: Volksbank Rottweil eG
DTSTAMP:20260422T015829Z
LOCATION:Kronesaal im Bürgerhaus Krone\, Balinger Str. 69 in 78727 Oberndo
 rf-Bochingen
SUMMARY:Mitarbeiterversammlung 2025
END:VEVENT
END:VCALENDAR
