BEGIN:VCALENDAR
VERSION:2.0
PRODID:-//pretix//VR_Ticket//
BEGIN:VTIMEZONE
TZID:Europe/Berlin
BEGIN:STANDARD
DTSTART:20001029T040000
RRULE:FREQ=YEARLY;BYDAY=-1SU;BYMONTH=10
TZNAME:CET
TZOFFSETFROM:+0200
TZOFFSETTO:+0100
END:STANDARD
BEGIN:DAYLIGHT
DTSTART:20000326T030000
RRULE:FREQ=YEARLY;BYDAY=-1SU;BYMONTH=3
TZNAME:CEST
TZOFFSETFROM:+0100
TZOFFSETTO:+0200
END:DAYLIGHT
END:VTIMEZONE
BEGIN:VEVENT
UID:pretix-vbrw-20250903-0@login.vr-ticket.de
DTSTART;TZID=Europe/Berlin:20250903T063000
DTEND;TZID=Europe/Berlin:20250903T183000
DESCRIPTION:Tickets: https://login.vr-ticket.de/vbrw/20250903/\nVeranstalte
 r: Volksbank Rottweil eG
DTSTAMP:20260422T015832Z
SUMMARY:Volksbank Ausflug - Dietingen\, Rottweil
END:VEVENT
END:VCALENDAR
