BEGIN:VCALENDAR
VERSION:2.0
PRODID:-//pretix//VR_Ticket//
BEGIN:VTIMEZONE
TZID:Europe/Berlin
BEGIN:STANDARD
DTSTART:20001029T040000
RRULE:FREQ=YEARLY;BYDAY=-1SU;BYMONTH=10
TZNAME:CET
TZOFFSETFROM:+0200
TZOFFSETTO:+0100
END:STANDARD
BEGIN:DAYLIGHT
DTSTART:20000326T030000
RRULE:FREQ=YEARLY;BYDAY=-1SU;BYMONTH=3
TZNAME:CEST
TZOFFSETFROM:+0100
TZOFFSETTO:+0200
END:DAYLIGHT
END:VTIMEZONE
BEGIN:VEVENT
UID:pretix-vbrw-2024-0@login.vr-ticket.de
DTSTART;TZID=Europe/Berlin:20240821T065000
DTEND;TZID=Europe/Berlin:20240821T193000
DESCRIPTION:Tickets: https://login.vr-ticket.de/vbrw/2024/\nVeranstalter: V
 olksbank Rottweil eG
DTSTAMP:20260422T022557Z
SUMMARY:Volksbank Ausflug - Dornhan\, Epfendorf\, Sulz\, Vöhringen\, Bergf
 elden
END:VEVENT
END:VCALENDAR
