BEGIN:VCALENDAR
VERSION:2.0
PRODID:-//pretix//VR_Ticket//
BEGIN:VTIMEZONE
TZID:Europe/Berlin
BEGIN:STANDARD
DTSTART:20001029T040000
RRULE:FREQ=YEARLY;BYDAY=-1SU;BYMONTH=10
TZNAME:CET
TZOFFSETFROM:+0200
TZOFFSETTO:+0100
END:STANDARD
BEGIN:DAYLIGHT
DTSTART:20000326T030000
RRULE:FREQ=YEARLY;BYDAY=-1SU;BYMONTH=3
TZNAME:CEST
TZOFFSETFROM:+0100
TZOFFSETTO:+0200
END:DAYLIGHT
END:VTIMEZONE
BEGIN:VEVENT
UID:pretix-vbga-erbrechtstage-10121@login.vr-ticket.de
DTSTART;TZID=Europe/Berlin:20231107T180000
DTEND;TZID=Europe/Berlin:20231107T200000
DESCRIPTION:Tickets: https://login.vr-ticket.de/vbga/erbrechtstage/10121/\n
 Einlass: 07.11.2023 17:45\nVeranstalter: Volksbank Gronau-Ahaus eG
DTSTAMP:20260422T162216Z
LOCATION:Hauptstelle der Volksbank Gronau-Ahaus eG\, Neustraße 42-46\, 485
 99 Gronau
SUMMARY:Gronauer Erbrechtstage 2023 - Hausübertragung - Jetzt oder später?
END:VEVENT
END:VCALENDAR
