BEGIN:VCALENDAR
VERSION:2.0
PRODID:-//pretix//VR_Ticket//
BEGIN:VTIMEZONE
TZID:Europe/Berlin
BEGIN:STANDARD
DTSTART:20001029T040000
RRULE:FREQ=YEARLY;BYDAY=-1SU;BYMONTH=10
TZNAME:CET
TZOFFSETFROM:+0200
TZOFFSETTO:+0100
END:STANDARD
BEGIN:DAYLIGHT
DTSTART:20000326T030000
RRULE:FREQ=YEARLY;BYDAY=-1SU;BYMONTH=3
TZNAME:CEST
TZOFFSETFROM:+0100
TZOFFSETTO:+0200
END:DAYLIGHT
END:VTIMEZONE
BEGIN:VEVENT
UID:pretix-vb-schermbeck-26fruehstueck-0@login.vr-ticket.de
DTSTART;TZID=Europe/Berlin:20260426T100000
DTEND;TZID=Europe/Berlin:20260426T153000
DESCRIPTION:Tickets: https://login.vr-ticket.de/vb-schermbeck/26fruehstueck
 /\nVeranstalter: Volksbank Schermbeck eG
DTSTAMP:20260420T083103Z
LOCATION:Freiwillige Feuerwehr Altschermbeck\, Schloßstraße\, 46514 Scher
 mbeck
SUMMARY:Ein Dorf geht frühstücken 2.0
END:VEVENT
END:VCALENDAR
