BEGIN:VCALENDAR
VERSION:2.0
PRODID:-//pretix//VR_Ticket//
BEGIN:VEVENT
UID:pretix-ttc-berlin-eastside-wtt2026-0@login.vr-ticket.de
DTSTART;VALUE=DATE:20260309
DTEND;VALUE=DATE:20260310
DESCRIPTION:Tickets: https://login.vr-ticket.de/ttc-berlin-eastside/wtt2026
 /\nVeranstalter: ttc berlin eastside
DTSTAMP:20260420T214928Z
LOCATION:Tischtennis Arena\, Paul-Heyse-Straße 25\, 10407 Berlin
SUMMARY:World Table Tennis (WTT) 2026
END:VEVENT
END:VCALENDAR
