BEGIN:VCALENDAR
VERSION:2.0
PRODID:-//pretix//VR_Ticket//
BEGIN:VTIMEZONE
TZID:Europe/Berlin
BEGIN:STANDARD
DTSTART:20001029T040000
RRULE:FREQ=YEARLY;BYDAY=-1SU;BYMONTH=10
TZNAME:CET
TZOFFSETFROM:+0200
TZOFFSETTO:+0100
END:STANDARD
BEGIN:DAYLIGHT
DTSTART:20000326T030000
RRULE:FREQ=YEARLY;BYDAY=-1SU;BYMONTH=3
TZNAME:CEST
TZOFFSETFROM:+0100
TZOFFSETTO:+0200
END:DAYLIGHT
END:VTIMEZONE
BEGIN:VEVENT
UID:pretix-ttc-berlin-eastside-CL-2024-36230@login.vr-ticket.de
DTSTART;TZID=Europe/Berlin:20260531T130000
DTEND;TZID=Europe/Berlin:20260531T140000
DESCRIPTION:Tickets: https://login.vr-ticket.de/ttc-berlin-eastside/CL-2024
 /36230/\nEinlass: 31.05.2026 12:00\nVeranstalter: ttc berlin eastside
DTSTAMP:20260421T212046Z
LOCATION:Paul-Heyse-Straße 25\, 10407 Berlin
SUMMARY:2026 Play-off Finale * ttc-berlin-eastside vs. TSV Dachau 1865
END:VEVENT
END:VCALENDAR
