BEGIN:VCALENDAR
VERSION:2.0
PRODID:-//pretix//VR_Ticket//
BEGIN:VTIMEZONE
TZID:Europe/Berlin
BEGIN:STANDARD
DTSTART:20001029T040000
RRULE:FREQ=YEARLY;BYDAY=-1SU;BYMONTH=10
TZNAME:CET
TZOFFSETFROM:+0200
TZOFFSETTO:+0100
END:STANDARD
BEGIN:DAYLIGHT
DTSTART:20000326T030000
RRULE:FREQ=YEARLY;BYDAY=-1SU;BYMONTH=3
TZNAME:CEST
TZOFFSETFROM:+0100
TZOFFSETTO:+0200
END:DAYLIGHT
END:VTIMEZONE
BEGIN:VEVENT
UID:pretix-kul-tour-hatten-countrybbq-0@login.vr-ticket.de
DTSTART;TZID=Europe/Berlin:20230917T120000
DTEND;TZID=Europe/Berlin:20230917T130000
DESCRIPTION:Tickets: https://login.vr-ticket.de/kul-tour-hatten/countrybbq/
 \nEinlass: 17.09.2023 11:30\nVeranstalter: Kultur- und Tourismus Hatten e.
 V.
DTSTAMP:20260425T010623Z
LOCATION:Freizeitzentrum Hatten (Jugendzeltplatz)\; Kreyenweg 9\, 26209 Hat
 ten
SUMMARY:Country & BBQ mit TexasHeat
END:VEVENT
END:VCALENDAR
