BEGIN:VCALENDAR
VERSION:2.0
PRODID:-//pretix//VR_Ticket//
BEGIN:VTIMEZONE
TZID:Europe/Berlin
BEGIN:STANDARD
DTSTART:20001029T040000
RRULE:FREQ=YEARLY;BYDAY=-1SU;BYMONTH=10
TZNAME:CET
TZOFFSETFROM:+0200
TZOFFSETTO:+0100
END:STANDARD
BEGIN:DAYLIGHT
DTSTART:20000326T030000
RRULE:FREQ=YEARLY;BYDAY=-1SU;BYMONTH=3
TZNAME:CEST
TZOFFSETFROM:+0100
TZOFFSETTO:+0200
END:DAYLIGHT
END:VTIMEZONE
BEGIN:VEVENT
UID:pretix-kk-wildeshausen-Thomaner2026-0@login.vr-ticket.de
DTSTART;TZID=Europe/Berlin:20260629T200000
DTEND;TZID=Europe/Berlin:20260629T210000
DESCRIPTION:Tickets: https://login.vr-ticket.de/kk-wildeshausen/Thomaner202
 6/\nEinlass: 29.06.2026 19:15\nVeranstalter: Kulturkreis Wildeshausen e.V.
DTSTAMP:20260420T103051Z
LOCATION:Wildeshausen\, Ev.-luth. Kirchengemeinde\, Alexanderkirche\, Herrl
 ichkeit
SUMMARY:THOMANERCHOR Leipzig
END:VEVENT
END:VCALENDAR
