BEGIN:VCALENDAR
VERSION:2.0
PRODID:-//pretix//VR_Ticket//
BEGIN:VTIMEZONE
TZID:Europe/Berlin
BEGIN:STANDARD
DTSTART:20001029T040000
RRULE:FREQ=YEARLY;BYDAY=-1SU;BYMONTH=10
TZNAME:CET
TZOFFSETFROM:+0200
TZOFFSETTO:+0100
END:STANDARD
BEGIN:DAYLIGHT
DTSTART:20000326T030000
RRULE:FREQ=YEARLY;BYDAY=-1SU;BYMONTH=3
TZNAME:CEST
TZOFFSETFROM:+0100
TZOFFSETTO:+0200
END:DAYLIGHT
END:VTIMEZONE
BEGIN:VEVENT
UID:pretix-ff-moosach-150-weinfest-0@login.vr-ticket.de
DTSTART;TZID=Europe/Berlin:20260530T190000
DTEND;TZID=Europe/Berlin:20260530T200000
DESCRIPTION:Tickets: https://login.vr-ticket.de/ff-moosach-150/weinfest/\nE
 inlass: 30.05.2026 18:00\nVeranstalter: Freiwillige Feuerwehr Moosach
DTSTAMP:20260421T104709Z
LOCATION:85665 Moosach\, Festzelt in der Grafinger Straße\, Einlass ab 18:
 00 Uhr
SUMMARY:Bier- und Weinfest mit der Kapelle Josef Menzl - 150 Jahre FF Moosa
 ch
END:VEVENT
END:VCALENDAR
