BEGIN:VCALENDAR
VERSION:2.0
PRODID:-//pretix//VR_Ticket//
BEGIN:VTIMEZONE
TZID:Europe/Berlin
BEGIN:STANDARD
DTSTART:20001029T040000
RRULE:FREQ=YEARLY;BYDAY=-1SU;BYMONTH=10
TZNAME:CET
TZOFFSETFROM:+0200
TZOFFSETTO:+0100
END:STANDARD
BEGIN:DAYLIGHT
DTSTART:20000326T030000
RRULE:FREQ=YEARLY;BYDAY=-1SU;BYMONTH=3
TZNAME:CEST
TZOFFSETFROM:+0100
TZOFFSETTO:+0200
END:DAYLIGHT
END:VTIMEZONE
BEGIN:VEVENT
UID:pretix-epgbasketskoblenz-einzelkarten-25174@login.vr-ticket.de
DTSTART;TZID=Europe/Berlin:20251116T170000
DTEND;TZID=Europe/Berlin:20251116T180000
DESCRIPTION:Tickets: https://login.vr-ticket.de/epgbasketskoblenz/einzelkar
 ten/25174/\nVeranstalter: Lützel Baskets 1956 e.V.
DTSTAMP:20260422T230247Z
LOCATION:Jupp-Gauchel-Straße 10\, 56075 Koblenz
SUMMARY:vs. Artland Dragons
END:VEVENT
END:VCALENDAR
