BEGIN:VCALENDAR
VERSION:2.0
PRODID:-//pretix//VR_Ticket//
BEGIN:VTIMEZONE
TZID:Europe/Berlin
BEGIN:STANDARD
DTSTART:20001029T040000
RRULE:FREQ=YEARLY;BYDAY=-1SU;BYMONTH=10
TZNAME:CET
TZOFFSETFROM:+0200
TZOFFSETTO:+0100
END:STANDARD
BEGIN:DAYLIGHT
DTSTART:20000326T030000
RRULE:FREQ=YEARLY;BYDAY=-1SU;BYMONTH=3
TZNAME:CEST
TZOFFSETFROM:+0100
TZOFFSETTO:+0200
END:DAYLIGHT
END:VTIMEZONE
BEGIN:VEVENT
UID:pretix-emstek-unternehmerabend2026-2-0@login.vr-ticket.de
DTSTART;TZID=Europe/Berlin:20260506T180000
DTEND;TZID=Europe/Berlin:20260506T230000
DESCRIPTION:Tickets: https://login.vr-ticket.de/emstek/unternehmerabend2026
 -2/\nEinlass: 06.05.2026 17:30\nVeranstalter: Gemeinde Emstek
DTSTAMP:20260419T173740Z
LOCATION:Wessendorf Systembeschichtungen GmbH\, Wilhelm-Bunsen-Str. 5\, 496
 85 Emstek
SUMMARY:Unternehmerabend 2026
END:VEVENT
END:VCALENDAR
