BEGIN:VCALENDAR
VERSION:2.0
PRODID:-//pretix//VR_Ticket//
BEGIN:VTIMEZONE
TZID:Europe/Berlin
BEGIN:STANDARD
DTSTART:20001029T040000
RRULE:FREQ=YEARLY;BYDAY=-1SU;BYMONTH=10
TZNAME:CET
TZOFFSETFROM:+0200
TZOFFSETTO:+0100
END:STANDARD
BEGIN:DAYLIGHT
DTSTART:20000326T030000
RRULE:FREQ=YEARLY;BYDAY=-1SU;BYMONTH=3
TZNAME:CEST
TZOFFSETFROM:+0100
TZOFFSETTO:+0200
END:DAYLIGHT
END:VTIMEZONE
BEGIN:VEVENT
UID:pretix-emstek-unternehmerabend2025-0@login.vr-ticket.de
DTSTART;TZID=Europe/Berlin:20250424T170000
DTEND;TZID=Europe/Berlin:20250424T230000
DESCRIPTION:Tickets: https://login.vr-ticket.de/emstek/unternehmerabend2025
 /\nVeranstalter: Gemeinde Emstek
DTSTAMP:20260422T161221Z
LOCATION:mjko GmbH\, Birkenweg\, 49685 Hoheging
SUMMARY:Unternehmerabend 2025
END:VEVENT
END:VCALENDAR
