BEGIN:VCALENDAR
VERSION:2.0
PRODID:-//pretix//VR_Ticket//
BEGIN:VTIMEZONE
TZID:Europe/Berlin
BEGIN:STANDARD
DTSTART:20001029T040000
RRULE:FREQ=YEARLY;BYDAY=-1SU;BYMONTH=10
TZNAME:CET
TZOFFSETFROM:+0200
TZOFFSETTO:+0100
END:STANDARD
BEGIN:DAYLIGHT
DTSTART:20000326T030000
RRULE:FREQ=YEARLY;BYDAY=-1SU;BYMONTH=3
TZNAME:CEST
TZOFFSETFROM:+0100
TZOFFSETTO:+0200
END:DAYLIGHT
END:VTIMEZONE
BEGIN:VEVENT
UID:pretix-colombinacolonia-ccvoices-0@login.vr-ticket.de
DTSTART;TZID=Europe/Berlin:20240317T150000
DTEND;TZID=Europe/Berlin:20240317T160000
DESCRIPTION:Tickets: https://login.vr-ticket.de/colombinacolonia/ccvoices/\
 nEinlass: 17.03.2024 14:00\nVeranstalter: Colombina Colonia e.V.
DTSTAMP:20260419T181001Z
LOCATION:Brauhaus Sion\, Unter Taschenmacher 5-7\, 50667 Köln (Altstadt)
SUMMARY:Jubiläumskonzert der CC Voices
END:VEVENT
END:VCALENDAR
