BEGIN:VCALENDAR
VERSION:2.0
PRODID:-//pretix//VR_Ticket//
BEGIN:VTIMEZONE
TZID:Europe/Berlin
BEGIN:STANDARD
DTSTART:20001029T040000
RRULE:FREQ=YEARLY;BYDAY=-1SU;BYMONTH=10
TZNAME:CET
TZOFFSETFROM:+0200
TZOFFSETTO:+0100
END:STANDARD
BEGIN:DAYLIGHT
DTSTART:20000326T030000
RRULE:FREQ=YEARLY;BYDAY=-1SU;BYMONTH=3
TZNAME:CEST
TZOFFSETFROM:+0100
TZOFFSETTO:+0200
END:DAYLIGHT
END:VTIMEZONE
BEGIN:VEVENT
UID:pretix-colombinacolonia-Weiberfastnacht-0@login.vr-ticket.de
DTSTART;TZID=Europe/Berlin:20240208T140000
DTEND;TZID=Europe/Berlin:20240208T150000
DESCRIPTION:Tickets: https://login.vr-ticket.de/colombinacolonia/Weiberfast
 nacht/\nEinlass: 08.02.2024 13:00\nVeranstalter: Colombina Colonia e.V.
DTSTAMP:20260419T181412Z
LOCATION:Balloni Hallen Köln\, Ehrenfeldgürtel 96\, 50823 Köln
SUMMARY:Weiberfastnacht mit Herren
END:VEVENT
END:VCALENDAR
