BEGIN:VCALENDAR
VERSION:2.0
PRODID:-//pretix//VR_Ticket//
BEGIN:VTIMEZONE
TZID:Europe/Berlin
BEGIN:STANDARD
DTSTART:20001029T040000
RRULE:FREQ=YEARLY;BYDAY=-1SU;BYMONTH=10
TZNAME:CET
TZOFFSETFROM:+0200
TZOFFSETTO:+0100
END:STANDARD
BEGIN:DAYLIGHT
DTSTART:20000326T030000
RRULE:FREQ=YEARLY;BYDAY=-1SU;BYMONTH=3
TZNAME:CEST
TZOFFSETFROM:+0100
TZOFFSETTO:+0200
END:DAYLIGHT
END:VTIMEZONE
BEGIN:VEVENT
UID:pretix-colombinacolonia-StammtischAug-0@login.vr-ticket.de
DTSTART;TZID=Europe/Berlin:20240815T190000
DTEND;TZID=Europe/Berlin:20240815T200000
DESCRIPTION:Tickets: https://login.vr-ticket.de/colombinacolonia/Stammtisch
 Aug/\nVeranstalter: Colombina Colonia e.V.
DTSTAMP:20260419T180959Z
LOCATION:Haus am See\, Bachemer Landstraße 420\, 50935 Köln\, (Decksteine
 r Weiher)
SUMMARY:Stammtisch - Haus am See
END:VEVENT
END:VCALENDAR
